BEGIN:VCALENDAR
PRODID:-//PUBBLE//agenda//NL
VERSION:2.0
METHOD:PUBLISH
BEGIN:VEVENT
DTSTART:20260417T135214Z
DTEND:20260417T145214Z
DTSTAMP:20260422T143825Z
UID:1d6c4b7c-058b-49b8-a9f8-b5a648e60817
CREATED:20260422T143825Z
NAME:Muzikale afsluiting van dodenherdenking almeloosweekblad.nl
X-WR-CALNAME:Muzikale afsluiting van dodenherdenking
X-ALT-DESC;FMTTYPE=text/html:<a href='/agenda/2026/5/4/muzikale-afsluiting-van-dodenherdenking-136004'>/agenda/2026/5/4/muzikale-afsluiting-van-dodenherdenking-136004</a> || <p class="Intro" pstyle="Intro">In een gratis concert zingt projectkoor ‘Herdenken in Vrijheid’ het hemelse Requiem van Gabriel Fauré. Hiermee sluit Almelo het programma van dodenherdenking op passende wijze af.&nbsp;</p><p><span class="Plaatsnaam" cstyle="Plaatsnaam" style="color: rgba(0, 0, 0, 1)">ALMELO&nbsp;</span>- Het concert vindt plaats in de Grote Kerk om 21.00 uur, na afloop van de officiële herdenking op het Wethouder Van Dronkelaarplein. De kerk opent om 20.30 uur. Beide evenementen zijn afzonderlijk te bezoeken.</p><p><span class="Vet" cstyle="Vet" style="color: rgba(0, 0, 0, 1)">Gratis</span></p><p>Om zoveel mogelijk mensen in de gelegenheid te stellen dit concert bij te wonen, is het met steun van het gemeentelijke Cultuurfonds vrij te bezoeken. Een vrijwillige bijdrage is welkom.</p><p>Het concert staat onder leiding van dirigent Jurriaan Poesse. Het wordt uitgevoerd door een projectkoor waaraan koorzangers uit Almelo en wijde omgeving deelnemen. Toonkunst Almelo verzorgt de organisatie.</p><p><span class="Vet" cstyle="Vet" style="color: rgba(0, 0, 0, 1)">Vocaal Ensemble Cordier</span></p><p>Een kamerkoor van afgestudeerde conservatoriumstudenten van ArtEZ, zingt vooraf drie liederen over herdenken en vrijheid.&nbsp;</p><p>Vervolgens sluiten de leden aan bij het projectkoor om het ontroerende requiem van Fauré uit te voeren.</p><p>De solopartijen worden verzorgd door bariton Marten Hutten, Cordierlid, en sopraan Sarah Konig, die eveneens bij ArtEZ is afgestudeerd.&nbsp;</p><p>De uitvoering wordt begeleid door Henk Linker op het grote kerkorgel.</p><p class="wwwadres" pstyle="www-adres">toonkunstalmelo.nl</p>
DESCRIPTION:<a href='/agenda/2026/5/4/muzikale-afsluiting-van-dodenherdenking-136004'>/agenda/2026/5/4/muzikale-afsluiting-van-dodenherdenking-136004</a> || <p class="Intro" pstyle="Intro">In een gratis concert zingt projectkoor ‘Herdenken in Vrijheid’ het hemelse Requiem van Gabriel Fauré. Hiermee sluit Almelo het programma van dodenherdenking op passende wijze af.&nbsp;</p><p><span class="Plaatsnaam" cstyle="Plaatsnaam" style="color: rgba(0, 0, 0, 1)">ALMELO&nbsp;</span>- Het concert vindt plaats in de Grote Kerk om 21.00 uur, na afloop van de officiële herdenking op het Wethouder Van Dronkelaarplein. De kerk opent om 20.30 uur. Beide evenementen zijn afzonderlijk te bezoeken.</p><p><span class="Vet" cstyle="Vet" style="color: rgba(0, 0, 0, 1)">Gratis</span></p><p>Om zoveel mogelijk mensen in de gelegenheid te stellen dit concert bij te wonen, is het met steun van het gemeentelijke Cultuurfonds vrij te bezoeken. Een vrijwillige bijdrage is welkom.</p><p>Het concert staat onder leiding van dirigent Jurriaan Poesse. Het wordt uitgevoerd door een projectkoor waaraan koorzangers uit Almelo en wijde omgeving deelnemen. Toonkunst Almelo verzorgt de organisatie.</p><p><span class="Vet" cstyle="Vet" style="color: rgba(0, 0, 0, 1)">Vocaal Ensemble Cordier</span></p><p>Een kamerkoor van afgestudeerde conservatoriumstudenten van ArtEZ, zingt vooraf drie liederen over herdenken en vrijheid.&nbsp;</p><p>Vervolgens sluiten de leden aan bij het projectkoor om het ontroerende requiem van Fauré uit te voeren.</p><p>De solopartijen worden verzorgd door bariton Marten Hutten, Cordierlid, en sopraan Sarah Konig, die eveneens bij ArtEZ is afgestudeerd.&nbsp;</p><p>De uitvoering wordt begeleid door Henk Linker op het grote kerkorgel.</p><p class="wwwadres" pstyle="www-adres">toonkunstalmelo.nl</p>
LAST-MODIFIED:20260422T143825Z
LOCATION: Grote Kerk | Kerkplein 17 Almelo
SEQUENCE:0
STATUS:CONFIRMED
SUMMARY:Muzikale afsluiting van dodenherdenking
TRANSP:OPAQUE
END:VEVENT
END:VCALENDAR
