BEGIN:VCALENDAR
PRODID:-//PUBBLE//agenda//NL
VERSION:2.0
METHOD:PUBLISH
BEGIN:VEVENT
DTSTART:20260223T150228Z
DTEND:20260223T160228Z
DTSTAMP:20260423T160058Z
UID:96e402a5-d70e-471c-980c-0ead8fecaffb
CREATED:20260423T160058Z
NAME:Almelose politieke pubquiz voor jongeren almeloosweekblad.nl
X-WR-CALNAME:Almelose politieke pubquiz voor jongeren
X-ALT-DESC;FMTTYPE=text/html:<a href='/agenda/2026/3/13/almelose-politieke-pubquiz-voor-jongeren-134266'>/agenda/2026/3/13/almelose-politieke-pubquiz-voor-jongeren-134266</a> || <p><span class="Plaatsnaam" cstyle="Plaatsnaam" style="color: rgba(0, 0, 0, 1)">ALMELO&nbsp;</span>- GroenLinks-Almelo nodigt iedereen vrijdag 13 maart om 19.30 uur uit bij Nielz voor de eerste enige echte Almelose Politieke Pubquiz, voor jongeren.&nbsp;</p><p>Zin in een avondje bier, brein en een beetje bravoure? Quizmaster is Anke Morsing, 26 jaar en de kandidaat op plek 3. De toegang is gratis en men krijgt twee drankjes.</p><p>GroenLinks-PvdA Almelo houdt deze quiz maar het wordt zeker geen exclusief links feestje. Alle jongeren die nieuwsgierig zijn, houden van een beetje competitie en die niet bang zijn voor pittige vragen zijn van harte welkom. Geen stoffige politiek, geen lange toespraken maar snelle quizrondes, verrassende stellingen, lachen met je team en ondertussen ontdekken hoe politiek in Almelo (en daarbuiten) nou écht werkt. Of je nu alles volgt, of juist denkt “politiek is niks voor mij” &nbsp;dan is dit juist geschikt. De quiz is voor jongeren. Je mag pas stemmen vanaf je achttiende. Maar wil je meedoen en ben je jonger dan 18? Van harte welkom! Tsja, wat is jong? Nou, tot een jaartje of 30 ongeveer?</p><p>Trommel je vrienden op en doe mee aan de eerste echte Almelose Politieke Pubquiz, voor jongeren. Men kan zich aanmelden via de site van GroenLinks-PvdA Almelo, kijk bij agenda. Of stuur een mail:&nbsp;<br />glpvda-almelo@protonmail.com</p>
DESCRIPTION:<a href='/agenda/2026/3/13/almelose-politieke-pubquiz-voor-jongeren-134266'>/agenda/2026/3/13/almelose-politieke-pubquiz-voor-jongeren-134266</a> || <p><span class="Plaatsnaam" cstyle="Plaatsnaam" style="color: rgba(0, 0, 0, 1)">ALMELO&nbsp;</span>- GroenLinks-Almelo nodigt iedereen vrijdag 13 maart om 19.30 uur uit bij Nielz voor de eerste enige echte Almelose Politieke Pubquiz, voor jongeren.&nbsp;</p><p>Zin in een avondje bier, brein en een beetje bravoure? Quizmaster is Anke Morsing, 26 jaar en de kandidaat op plek 3. De toegang is gratis en men krijgt twee drankjes.</p><p>GroenLinks-PvdA Almelo houdt deze quiz maar het wordt zeker geen exclusief links feestje. Alle jongeren die nieuwsgierig zijn, houden van een beetje competitie en die niet bang zijn voor pittige vragen zijn van harte welkom. Geen stoffige politiek, geen lange toespraken maar snelle quizrondes, verrassende stellingen, lachen met je team en ondertussen ontdekken hoe politiek in Almelo (en daarbuiten) nou écht werkt. Of je nu alles volgt, of juist denkt “politiek is niks voor mij” &nbsp;dan is dit juist geschikt. De quiz is voor jongeren. Je mag pas stemmen vanaf je achttiende. Maar wil je meedoen en ben je jonger dan 18? Van harte welkom! Tsja, wat is jong? Nou, tot een jaartje of 30 ongeveer?</p><p>Trommel je vrienden op en doe mee aan de eerste echte Almelose Politieke Pubquiz, voor jongeren. Men kan zich aanmelden via de site van GroenLinks-PvdA Almelo, kijk bij agenda. Of stuur een mail:&nbsp;<br />glpvda-almelo@protonmail.com</p>
LAST-MODIFIED:20260423T160058Z
LOCATION: NielZ Café | Marktplein 31 Almelo
SEQUENCE:0
STATUS:CONFIRMED
SUMMARY:Almelose politieke pubquiz voor jongeren
TRANSP:OPAQUE
END:VEVENT
END:VCALENDAR
