BEGIN:VCALENDAR
PRODID:-//PUBBLE//agenda//NL
VERSION:2.0
METHOD:PUBLISH
BEGIN:VEVENT
DTSTART:20251201T075309Z
DTEND:20251212T183000Z
DTSTAMP:20260421T163704Z
UID:6a932f33-69db-4d6c-a3b9-11758e25c5ee
CREATED:20260421T163704Z
NAME:Kerstmarkt winkelcentrum de Gors almeloosweekblad.nl
X-WR-CALNAME:Kerstmarkt winkelcentrum de Gors
X-ALT-DESC;FMTTYPE=text/html:<a href='/agenda/2025/12/12/kerstmarkt-winkelcentrum-de-gors-131903'>/agenda/2025/12/12/kerstmarkt-winkelcentrum-de-gors-131903</a> || <p>In samenwerking met de winkeliers van de Gors wordt vrijdag 12 december van 18.00 tot 20.30 uur een sfeervolle kerstmarkt gehouden door het Noaberhoes.</p><p>Kom gezellig langs en struin langs de verschillende kraampjes met diverse artikelen en winterse lekkernijen.</p><p>Er zijn nog enkele kraampjes te huur, dus heeft men belangstelling dan kan men contact opnemen met Debby telefoon 06-20711945.</p>
DESCRIPTION:<a href='/agenda/2025/12/12/kerstmarkt-winkelcentrum-de-gors-131903'>/agenda/2025/12/12/kerstmarkt-winkelcentrum-de-gors-131903</a> || <p>In samenwerking met de winkeliers van de Gors wordt vrijdag 12 december van 18.00 tot 20.30 uur een sfeervolle kerstmarkt gehouden door het Noaberhoes.</p><p>Kom gezellig langs en struin langs de verschillende kraampjes met diverse artikelen en winterse lekkernijen.</p><p>Er zijn nog enkele kraampjes te huur, dus heeft men belangstelling dan kan men contact opnemen met Debby telefoon 06-20711945.</p>
LAST-MODIFIED:20260421T163704Z
LOCATION: Winkelcentrum Windmolenbroek | De Gors 27 Almelo
SEQUENCE:0
STATUS:CONFIRMED
SUMMARY:Kerstmarkt winkelcentrum de Gors
TRANSP:OPAQUE
END:VEVENT
END:VCALENDAR
