BEGIN:VCALENDAR
PRODID:-//PUBBLE//agenda//NL
VERSION:2.0
METHOD:PUBLISH
BEGIN:VEVENT
DTSTART:20250818T114410Z
DTEND:20250820T130000Z
DTSTAMP:20260420T130033Z
UID:bbc52a88-ceaa-4512-822d-4204a78f5018
CREATED:20260420T130033Z
NAME:Rommelmarkt almeloosweekblad.nl
X-WR-CALNAME:Rommelmarkt
X-ALT-DESC;FMTTYPE=text/html:<a href='/agenda/2025/8/20/rommelmarkt-128311'>/agenda/2025/8/20/rommelmarkt-128311</a> || <p><span class="Plaatsnaam" cstyle="Plaatsnaam" style="color: rgba(0, 0, 0, 1)">ALMELO&nbsp;</span>- Bij stadsboerderij Beeklust aan de Ledeboerslaan 3 in Almelo wordt woensdag 20 augustus van 10.00 tot 15.00 uur een rommelmarkt gehouden.&nbsp;</p><p>Iedereen is van harte welkom om langs te komen. Naast de markt is er nog veel meer te doen. Zoals een ritje maken met de ponykar, blikgooien en touwtje trekken. Het winkeltje en het terras zijn geopend. En er zijn patat en snacks vekrijgbaar.&nbsp;</p><p>Wie zelf een plekje op de markt wil hebben, kan zich hiervoor opgeven via <a href="mailto:stadsboerderijbeeklust@dtzc.nl">stadsboerderijbeeklust@dtzc.nl</a> of 088-4306390.</p><p>De kosten zijn 2,50 euro per plek. Op de dag zelf betalen. Niet verkochte spullen wel zelf weer meenemen.&nbsp;</p>
DESCRIPTION:<a href='/agenda/2025/8/20/rommelmarkt-128311'>/agenda/2025/8/20/rommelmarkt-128311</a> || <p><span class="Plaatsnaam" cstyle="Plaatsnaam" style="color: rgba(0, 0, 0, 1)">ALMELO&nbsp;</span>- Bij stadsboerderij Beeklust aan de Ledeboerslaan 3 in Almelo wordt woensdag 20 augustus van 10.00 tot 15.00 uur een rommelmarkt gehouden.&nbsp;</p><p>Iedereen is van harte welkom om langs te komen. Naast de markt is er nog veel meer te doen. Zoals een ritje maken met de ponykar, blikgooien en touwtje trekken. Het winkeltje en het terras zijn geopend. En er zijn patat en snacks vekrijgbaar.&nbsp;</p><p>Wie zelf een plekje op de markt wil hebben, kan zich hiervoor opgeven via <a href="mailto:stadsboerderijbeeklust@dtzc.nl">stadsboerderijbeeklust@dtzc.nl</a> of 088-4306390.</p><p>De kosten zijn 2,50 euro per plek. Op de dag zelf betalen. Niet verkochte spullen wel zelf weer meenemen.&nbsp;</p>
LAST-MODIFIED:20260420T130033Z
LOCATION: Stadsboerderij Beeklust | Ledeboerslaan 3 Almelo
SEQUENCE:0
STATUS:CONFIRMED
SUMMARY:Rommelmarkt
TRANSP:OPAQUE
END:VEVENT
END:VCALENDAR
