BEGIN:VCALENDAR
PRODID:-//PUBBLE//agenda//NL
VERSION:2.0
METHOD:PUBLISH
BEGIN:VEVENT
DTSTART:20250705T073544Z
DTEND:20250824T150000Z
DTSTAMP:20260424T165554Z
UID:5f09ddd0-56b9-43fe-af76-380f16865fc3
CREATED:20260424T165554Z
NAME:FestivAlmelo barst los: zes weken lang gratis vakantiepret voor de jeugd almeloosweekblad.nl
X-WR-CALNAME:FestivAlmelo barst los: zes weken lang gratis vakantiepret voor de jeugd
X-ALT-DESC;FMTTYPE=text/html:<a href='/agenda/2025/7/12/festivalmelo-barst-los-zes-weken-lang-gratis-vakantiepret-voor-de-jeugd-127416'>/agenda/2025/7/12/festivalmelo-barst-los-zes-weken-lang-gratis-vakantiepret-voor-de-jeugd-127416</a> || <p>ALMELO – Deze zomervakantie hoeven kinderen en jongeren in Almelo zich geen moment te vervelen. FestivAlmelo keert terug met een bomvol programma boordevol gratis activiteiten voor iedereen tussen de 4 en 18 jaar. Van 12 juli tot en met 24 augustus is er voor elk wat wils: creatief, sportief, muzikaal of avontuurlijk – alles komt aan bod. Aanmelden kan vanaf nu via www.festivalmelo.nl.</p><p>Dankzij financiële steun van de gemeente Almelo kunnen kinderen en jongeren ook dit jaar kosteloos deelnemen aan het programma. Dit is samengesteld door onder meer Sportbedrijf Almelo, Avedan Welzijn, Studio 15, Kaliber Kunstenschool en Humankind. Ook de bibliotheek en het Natuurhus dragen hun steentje bij. Alle activiteiten zijn toegankelijk voor álle jeugd, ook voor kinderen met een beperking.</p><p>Er zijn tal van creatieve workshops, zoals bloemschikken, cupcakes versieren en knutselen. Sportievelingen kunnen hun hart ophalen met clinics in padel en skateboarden, bubbelvoetbal, dans, mountainbiken en het beklimmen van een klimwand. Zwemliefhebbers kunnen onder meer deelnemen aan snorkelclinics, zeemeerminzwemmen en de unieke Drijf-In Bios.</p><p>Ook aan educatieve en muzikale invulling is gedacht. Zo is er een imkerworkshop, leer je koken met een klein budget of zing je mee met boomwhackers. Speciaal voor tieners organiseert Studio 15 drie thematische weekenden: Dance, Music en Art &amp; Theatre. En als klap op de vuurpijl: rapper Mocromaniac treedt op in Almelo.</p><p>Voor wie graag samen met een ouder of verzorger iets onderneemt, zijn er verschillende ouder-kindactiviteiten. Zo wordt FestivAlmelo niet alleen een feest voor de jeugd, maar ook een mooie kans om samen herinneringen te maken.</p>
DESCRIPTION:<a href='/agenda/2025/7/12/festivalmelo-barst-los-zes-weken-lang-gratis-vakantiepret-voor-de-jeugd-127416'>/agenda/2025/7/12/festivalmelo-barst-los-zes-weken-lang-gratis-vakantiepret-voor-de-jeugd-127416</a> || <p>ALMELO – Deze zomervakantie hoeven kinderen en jongeren in Almelo zich geen moment te vervelen. FestivAlmelo keert terug met een bomvol programma boordevol gratis activiteiten voor iedereen tussen de 4 en 18 jaar. Van 12 juli tot en met 24 augustus is er voor elk wat wils: creatief, sportief, muzikaal of avontuurlijk – alles komt aan bod. Aanmelden kan vanaf nu via www.festivalmelo.nl.</p><p>Dankzij financiële steun van de gemeente Almelo kunnen kinderen en jongeren ook dit jaar kosteloos deelnemen aan het programma. Dit is samengesteld door onder meer Sportbedrijf Almelo, Avedan Welzijn, Studio 15, Kaliber Kunstenschool en Humankind. Ook de bibliotheek en het Natuurhus dragen hun steentje bij. Alle activiteiten zijn toegankelijk voor álle jeugd, ook voor kinderen met een beperking.</p><p>Er zijn tal van creatieve workshops, zoals bloemschikken, cupcakes versieren en knutselen. Sportievelingen kunnen hun hart ophalen met clinics in padel en skateboarden, bubbelvoetbal, dans, mountainbiken en het beklimmen van een klimwand. Zwemliefhebbers kunnen onder meer deelnemen aan snorkelclinics, zeemeerminzwemmen en de unieke Drijf-In Bios.</p><p>Ook aan educatieve en muzikale invulling is gedacht. Zo is er een imkerworkshop, leer je koken met een klein budget of zing je mee met boomwhackers. Speciaal voor tieners organiseert Studio 15 drie thematische weekenden: Dance, Music en Art &amp; Theatre. En als klap op de vuurpijl: rapper Mocromaniac treedt op in Almelo.</p><p>Voor wie graag samen met een ouder of verzorger iets onderneemt, zijn er verschillende ouder-kindactiviteiten. Zo wordt FestivAlmelo niet alleen een feest voor de jeugd, maar ook een mooie kans om samen herinneringen te maken.</p>
LAST-MODIFIED:20260424T165554Z
LOCATION: Almelo |   Almelo
SEQUENCE:0
STATUS:CONFIRMED
SUMMARY:FestivAlmelo barst los: zes weken lang gratis vakantiepret voor de jeugd
TRANSP:OPAQUE
END:VEVENT
END:VCALENDAR
