BEGIN:VCALENDAR
PRODID:-//PUBBLE//agenda//NL
VERSION:2.0
METHOD:PUBLISH
BEGIN:VEVENT
DTSTART:20250214T065112Z
DTEND:20250214T075112Z
DTSTAMP:20260420T143937Z
UID:e8b5d7c2-049f-4d80-80e0-9d4e548d2c8d
CREATED:20260420T143937Z
NAME:Heraclestrainers te gast bij OVA Toafelproat almeloosweekblad.nl
X-WR-CALNAME:Heraclestrainers te gast bij OVA Toafelproat
X-ALT-DESC;FMTTYPE=text/html:<a href='/agenda/2025/2/24/heraclestrainers-te-gast-bij-ova-toafelproat-123301'>/agenda/2025/2/24/heraclestrainers-te-gast-bij-ova-toafelproat-123301</a> || <p data-pm-slice="0 0 []">ALMELO - Heracles-supporters krijgen tijdens ‘Toafelproat met Heracles’ de kans om een unieke middag te beleven met keeperstrainer Brian van Loo en veldtrainer Peter Reekers. Zij delen hun ervaringen als speler en trainer en geven een exclusieve blik achter de schermen bij Heracles Almelo. Ook Hans Morsink, voorzitter van de Raad van Toezicht, schuift aan.</p><p>Naast voetbalinhoudelijke gesprekken komen humor en kleedkameranekdotes ruim aan bod. Na de pauze krijgen aanwezigen de gelegenheid om vragen te stellen over de huidige ontwikkelingen bij de club.</p><p>Deze maandelijkse bijeenkomst, speciaal voor oud-spelers en seniorensupporters, wordt georganiseerd door de Oudervereniging Almelo (OVA), Heracles Almelo en het Huis van Katoen en Nu. De toegang is gratis en bezoekers kunnen zonder aanmelding binnenlopen.</p>
DESCRIPTION:<a href='/agenda/2025/2/24/heraclestrainers-te-gast-bij-ova-toafelproat-123301'>/agenda/2025/2/24/heraclestrainers-te-gast-bij-ova-toafelproat-123301</a> || <p data-pm-slice="0 0 []">ALMELO - Heracles-supporters krijgen tijdens ‘Toafelproat met Heracles’ de kans om een unieke middag te beleven met keeperstrainer Brian van Loo en veldtrainer Peter Reekers. Zij delen hun ervaringen als speler en trainer en geven een exclusieve blik achter de schermen bij Heracles Almelo. Ook Hans Morsink, voorzitter van de Raad van Toezicht, schuift aan.</p><p>Naast voetbalinhoudelijke gesprekken komen humor en kleedkameranekdotes ruim aan bod. Na de pauze krijgen aanwezigen de gelegenheid om vragen te stellen over de huidige ontwikkelingen bij de club.</p><p>Deze maandelijkse bijeenkomst, speciaal voor oud-spelers en seniorensupporters, wordt georganiseerd door de Oudervereniging Almelo (OVA), Heracles Almelo en het Huis van Katoen en Nu. De toegang is gratis en bezoekers kunnen zonder aanmelding binnenlopen.</p>
LAST-MODIFIED:20260420T143937Z
LOCATION: Huis van katoen en nu | Marktplein 35 Almelo
SEQUENCE:0
STATUS:CONFIRMED
SUMMARY:Heraclestrainers te gast bij OVA Toafelproat
TRANSP:OPAQUE
END:VEVENT
END:VCALENDAR
